Workbook

Sheet Monthly Schedule
A1: Monthly Work Schedule
A2: Month: | B2: ____________ | D2: Location: | E2: ____________
A3: Type a shift code in each cell (see the Shift Codes sheet, e.g. AM, PM, D, OFF). The Shifts column counts scheduled shifts; Hours multiplies by the hours per code you set on the Shift Codes sheet.
A4: Weekday (edit C4, rest follow): | C4: Mon | D4: =CHOOSE(MOD(MATCH(C4,{"Mon","Tue","Wed","Thu","Fri","Sat","Sun"},0),7)+1,"Mon","Tue","Wed","Thu","Fri","Sat","Sun") | E4: =CHOOSE(MOD(MATCH(D4,{"Mon","Tue","Wed","Thu","Fri","Sat","Sun"},0),7)+1,"Mon","Tue","Wed","Thu","Fri","Sat","Sun") | F4: =CHOOSE(MOD(MATCH(E4,{"Mon","Tue","Wed","Thu","Fri","Sat","Sun"},0),7)+1,"Mon","Tue","Wed","Thu","Fri","Sat","Sun") | G4: =CHOOSE(MOD(MATCH(F4,{"Mon","Tue","Wed","Thu","Fri","Sat","Sun"},0),7)+1,"Mon","Tue","Wed","Thu","Fri","Sat","Sun") | H4: =CHOOSE(MOD(MATCH(G4,{"Mon","Tue","Wed","Thu","Fri","Sat","Sun"},0),7)+1,"Mon","Tue","Wed","Thu","Fri","Sat","Sun") | I4: =CHOOSE(MOD(MATCH(H4,{"Mon","Tue","Wed","Thu","Fri","Sat","Sun"},0),7)+1,"Mon","Tue","Wed","Thu","Fri","Sat","Sun") | J4: =CHOOSE(MOD(MATCH(I4,{"Mon","Tue","Wed","Thu","Fri","Sat","Sun"},0),7)+1,"Mon","Tue","Wed","Thu","Fri","Sat","Sun") | K4: =CHOOSE(MOD(MATCH(J4,{"Mon","Tue","Wed","Thu","Fri","Sat","Sun"},0),7)+1,"Mon","Tue","Wed","Thu","Fri","Sat","Sun") | ... AG4: =CHOOSE(MOD(MATCH(AF4,{"Mon","Tue","Wed","Thu","Fri","Sat","Sun"},0),7)+1,"Mon","Tue","Wed","Thu","Fri","Sat","Sun")
A5: Employee | B5: Position | C5: 1 | D5: 2 | E5: 3 | F5: 4 | G5: 5 | H5: 6 | I5: 7 | J5: 8 | K5: 9 | L5: 10 | M5: 11 | N5: 12 | O5: 13 | P5: 14 | Q5: 15 | R5: 16 | S5: 17 | T5: 18 | U5: 19 | V5: 20 | W5: 21 | X5: 22 | Y5: 23 | Z5: 24 | AA5: 25 | AB5: 26 | AC5: 27 | AD5: 28 | AE5: 29 | AF5: 30 | AG5: 31 | AH5: Shifts | AI5: Hours
A6: Maria Lopez | B6: Server | C6: AM | D6: AM | F6: PM | G6: PM | H6: D | J6: AM | K6: AM | AH6: =COUNTA(C6:AG6)-COUNTIF(C6:AG6,"OFF") | AI6: =SUMPRODUCT(IFERROR(VLOOKUP(C6:AG6,'Shift Codes'!$A$3:$B$12,2,FALSE),0))
A7: Jordan Kim | B7: Line cook | C7: PM | D7: PM | E7: PM | G7: OFF | H7: PM | I7: PM | K7: PM | AH7: =COUNTA(C7:AG7)-COUNTIF(C7:AG7,"OFF") | AI7: =SUMPRODUCT(IFERROR(VLOOKUP(C7:AG7,'Shift Codes'!$A$3:$B$12,2,FALSE),0))
A8: Sam Patel | B8: Host | D8: AM | E8: AM | H8: AM | I8: AM | J8: AM | AH8: =COUNTA(C8:AG8)-COUNTIF(C8:AG8,"OFF") | AI8: =SUMPRODUCT(IFERROR(VLOOKUP(C8:AG8,'Shift Codes'!$A$3:$B$12,2,FALSE),0))
AH9: =COUNTA(C9:AG9)-COUNTIF(C9:AG9,"OFF") | AI9: =SUMPRODUCT(IFERROR(VLOOKUP(C9:AG9,'Shift Codes'!$A$3:$B$12,2,FALSE),0))
AH10: =COUNTA(C10:AG10)-COUNTIF(C10:AG10,"OFF") | AI10: =SUMPRODUCT(IFERROR(VLOOKUP(C10:AG10,'Shift Codes'!$A$3:$B$12,2,FALSE),0))
AH11: =COUNTA(C11:AG11)-COUNTIF(C11:AG11,"OFF") | AI11: =SUMPRODUCT(IFERROR(VLOOKUP(C11:AG11,'Shift Codes'!$A$3:$B$12,2,FALSE),0))
AH12: =COUNTA(C12:AG12)-COUNTIF(C12:AG12,"OFF") | AI12: =SUMPRODUCT(IFERROR(VLOOKUP(C12:AG12,'Shift Codes'!$A$3:$B$12,2,FALSE),0))
AH13: =COUNTA(C13:AG13)-COUNTIF(C13:AG13,"OFF") | AI13: =SUMPRODUCT(IFERROR(VLOOKUP(C13:AG13,'Shift Codes'!$A$3:$B$12,2,FALSE),0))
AH14: =COUNTA(C14:AG14)-COUNTIF(C14:AG14,"OFF") | AI14: =SUMPRODUCT(IFERROR(VLOOKUP(C14:AG14,'Shift Codes'!$A$3:$B$12,2,FALSE),0))
AH15: =COUNTA(C15:AG15)-COUNTIF(C15:AG15,"OFF") | AI15: =SUMPRODUCT(IFERROR(VLOOKUP(C15:AG15,'Shift Codes'!$A$3:$B$12,2,FALSE),0))
AH16: =COUNTA(C16:AG16)-COUNTIF(C16:AG16,"OFF") | AI16: =SUMPRODUCT(IFERROR(VLOOKUP(C16:AG16,'Shift Codes'!$A$3:$B$12,2,FALSE),0))
AH17: =COUNTA(C17:AG17)-COUNTIF(C17:AG17,"OFF") | AI17: =SUMPRODUCT(IFERROR(VLOOKUP(C17:AG17,'Shift Codes'!$A$3:$B$12,2,FALSE),0))
AH18: =COUNTA(C18:AG18)-COUNTIF(C18:AG18,"OFF") | AI18: =SUMPRODUCT(IFERROR(VLOOKUP(C18:AG18,'Shift Codes'!$A$3:$B$12,2,FALSE),0))
AH19: =COUNTA(C19:AG19)-COUNTIF(C19:AG19,"OFF") | AI19: =SUMPRODUCT(IFERROR(VLOOKUP(C19:AG19,'Shift Codes'!$A$3:$B$12,2,FALSE),0))
A20: Staff scheduled | C20: =COUNTA(C6:C19)-COUNTIF(C6:C19,"OFF") | D20: =COUNTA(D6:D19)-COUNTIF(D6:D19,"OFF") | E20: =COUNTA(E6:E19)-COUNTIF(E6:E19,"OFF") | F20: =COUNTA(F6:F19)-COUNTIF(F6:F19,"OFF") | G20: =COUNTA(G6:G19)-COUNTIF(G6:G19,"OFF") | H20: =COUNTA(H6:H19)-COUNTIF(H6:H19,"OFF") | I20: =COUNTA(I6:I19)-COUNTIF(I6:I19,"OFF") | J20: =COUNTA(J6:J19)-COUNTIF(J6:J19,"OFF") | ... AG20: =COUNTA(AG6:AG19)-COUNTIF(AG6:AG19,"OFF")
A22: Free template from EpicShifts — skip the spreadsheet: upload this file at epicshifts.com and we'll import it into a live, shareable schedule.

Sheet Shift Codes
A1: Shift Codes (edit to match your shifts)
A2: Code | B2: Hours | C2: Meaning
A3: AM | B3: 8 | C3: Opening / morning shift
A4: PM | B4: 8 | C4: Closing / evening shift
A5: D | B5: 10 | C5: Double (open to close)
A6: M | B6: 5 | C6: Mid / lunch rush
A7: OFF | B7: 0 | C7: Requested day off — not counted as a shift
